Workbook

Sheet Instructions
A1: Instructions
A4: Funding and Spending Timelines
A5: Evant/Deadline | B5: Date
A6: Funding Made Available | B6: 46266
A7: All Work Completed | B7: 46599
A8: All Funds Invoices For | B8: 46613
A11: Completing this Workbook
A12: - Provide your organization's name in cell C1 of the Summary Tables tab.
A13: - Complete all yellow cells for each proposed budget line item on the Cost Category tabs. A justification must be provided for each proposed line item.
A14: - All blue cells will automatically populate. Drop down menus should be used for Is This an Administrative Cost? columns on Cost Category tabs to ensure consistency across all tabs and proper tracking of proposed costs.
A15: - Budget proposals should not exceed $1,860,000.
A16: - Refer to the Statement of Work for examples of activities that Applicants may propose and guidance on specific types of costs. Note - proposed costs must not supplant existing State, local, tribal, or private funding.
A17: - All proposed costs must be categorized under one of the following Cost Categories. Sample entries with required information and sample justification can be found on each Cost Category's tab.
A19: Cost Category | B19: Description | C19: Required Information
A20: Personnel | B20: Staff salary costs for personnel employed by the applicant organization. | C20: - Title of position, and name of staff member (if available) - Annual Salary - % of Time for this Effort (i.e., % FTE) - Start and End Date - Administrative Cost Yes/No - Position Justification
A21: Personnel Fringe | B21: Fringe Benefits costs for proposed Personnel. | C21: - Fringe Benefit Value per Personnel
A22: Travel | B22: In-State travel costs for proposed Personnel (if any). | C22: - Purpose of Travel, location - # of miles for mileage calculation - Other travel costs (e.g., Airfare, luggage, hotel) - Travel Justification - # of trips
A23: Equipment | B23: Generally, tangible equipment purchases over $10,000 per unit. See 2 CFR 200 for equipment definition. | C23: - Item name - Unit Cost - Administrative Cost Yes/No - Quantity
A24: Supplies | B24: Generally, tangible supplies purchases under $10,000 per unit. | C24: - Item name - Unit Cost - Administrative Cost Yes/No - Quantity
A25: Contractor | B25: Contract costs. This could include, but is not limited to, the following: - IT System design, development, and implementation vendor - Staff augmentation vendor - Communications support vendor | C25: - Contractor role and name (if available) - Administrative Cost Yes/No - Period of performance (start and end date) - Projected cost
A26: Other | B26: Other costs that do not fit into above categories. This could include, but is not limited to, the following: - Office supplies - Software license costs - Training costs | C26: - Item name - Unit Cost - Administrative Cost Yes/No - Quantity

Sheet Summary Tables
A1: Budget Summary Tables | B1: Organization Name:
A3: Table 1 - Total Proposed Budget by Budget Period
B4: Proposed Costs
A5: Total Proposed Budget | B5: =B17 -> 0
A8: Table 2 - Cost Category Breakdown
A9: Cost Category | B9: Proposed Costs
A10: A: Personnel | B10: =Personnel!B4 -> 0
A11: B: Personnel Fringe | B11: =Fringe!B4 -> 0
A12: C: Travel | B12: =Travel!B4 -> 0
A13: D: Equipment | B13: =Equipment!B4 -> 0
A14: E: Supplies | B14: =Supplies!B4 -> 0
A15: F: Contractors | B15: =Contractor!B4 -> 0
A16: H: Other | B16: =Other!B4 -> 0
A17: Totals | B17: =SUM(B10:B16) -> 0
A19: Table 3 - Administrative Costs Summary
A20: Cost Category | B20: Proposed Costs
A21: A: Personnel | B21: =SUMIF(Personnel!$G$14:$G$43,"Yes, Admin",Personnel!I$14:I$43) -> 0
A22: B: Personnel Fringe | B22: =SUMIF(Fringe!$A14:$A43,"Yes, Admin", Fringe!$D14:$D43) -> 0
A23: C: Travel | B23: =Travel!B4 -> 0
A24: D: Equipment | B24: =SUMIF(Equipment!$C14:$C33, "Yes, Admin", Equipment!E14:E33) -> 0
A25: E: Supplies | B25: =SUMIF(Supplies!$C14:$C33, "Yes, Admin", Supplies!E14:E33) -> 0
A26: F: Contractors | B26: =SUMIF(Contractor!$B14:$B33,"Yes, Admin",Contractor!F14:F33) -> 0
A27: H: Other | B27: =SUMIF(Other!$C14:$C33,"Yes, Admin", Other!E14:E33) -> 0
A28: Totals | B28: =SUM(B21:B27) -> 0
A30: Admin Costs % of Total Proposed Budget | B30: =IFERROR(#REF!/#REF!, "")

Sheet Personnel
A1: Personnel | B1: Organization Name: | C1: ='Summary Tables'!C1 -> 0
B3: Total Proposed Cost
A4: Personnel Budget | B4: =I44 -> 0
A7: Instructions - For each position proposed, fill in all of the yellow fields in the Personnel Details table below, noting annual salary, position start/end dates, etc. In the Justifications table further below, describe each proposed position's role and its scope of responsibility.
A9: Personnel Details
A10: Position Title (and Name) | B10: # of Staff | C10: Annual Salary | D10: % of Time | E10: Start Date | F10: End Date | G10: Admin? | H10: Months | I10: Total Proposed Cost
A11: Example Position (John Doe) | B11: 1 | C11: 50000 | D11: 1 | E11: 46296 | F11: 46568 | G11: Yes, Admin | H11: =DATEDIF(E11,F11,"m")+1 -> 9 | I11: =($C11/12*$D11*$B11) *MAX(0,(YEAR(MIN($F11,DATE(2027,9,30)))*12 + MONTH(MIN($F11,DATE(2027,9,30))))-(YEAR(MAX($E11,DATE(2026,10,1)))*12 +MONTH(MAX($E11, DATE(2026,10,1)))) + 1) -> 37500
A13: Position Title (and Name) | B13: # of Staff | C13: Annual Salary | D13: % of Time | E13: Start Date | F13: End Date | G13: Is this an Administrative Cost? | H13: Months | I13: Total Proposed Cost
H14: =DATEDIF(E14,F14,"m")+1 -> 1 | I14: =($C14/12*$D14*$B14) *MAX(0,(YEAR(MIN($F14,DATE(2027,9,30)))*12 + MONTH(MIN($F14,DATE(2027,9,30))))-(YEAR(MAX($E14,DATE(2026,9,1)))*12 +MONTH(MAX($E14, DATE(2026,9,1)))) + 1) -> 0
H15: =DATEDIF(E15,F15,"m")+1 -> 1 | I15: =($C15/12*$D15*$B15) *MAX(0,(YEAR(MIN($F15,DATE(2027,9,30)))*12 + MONTH(MIN($F15,DATE(2027,9,30))))-(YEAR(MAX($E15,DATE(2026,9,1)))*12 +MONTH(MAX($E15, DATE(2026,9,1)))) + 1) -> 0
H16: =DATEDIF(E16,F16,"m")+1 -> 1 | I16: =($C16/12*$D16*$B16) *MAX(0,(YEAR(MIN($F16,DATE(2027,9,30)))*12 + MONTH(MIN($F16,DATE(2027,9,30))))-(YEAR(MAX($E16,DATE(2026,9,1)))*12 +MONTH(MAX($E16, DATE(2026,9,1)))) + 1) -> 0
H17: =DATEDIF(E17,F17,"m")+1 -> 1 | I17: =($C17/12*$D17*$B17) *MAX(0,(YEAR(MIN($F17,DATE(2027,9,30)))*12 + MONTH(MIN($F17,DATE(2027,9,30))))-(YEAR(MAX($E17,DATE(2026,9,1)))*12 +MONTH(MAX($E17, DATE(2026,9,1)))) + 1) -> 0
H18: =DATEDIF(E18,F18,"m")+1 -> 1 | I18: =($C18/12*$D18*$B18) *MAX(0,(YEAR(MIN($F18,DATE(2027,9,30)))*12 + MONTH(MIN($F18,DATE(2027,9,30))))-(YEAR(MAX($E18,DATE(2026,9,1)))*12 +MONTH(MAX($E18, DATE(2026,9,1)))) + 1) -> 0
H19: =DATEDIF(E19,F19,"m")+1 -> 1 | I19: =($C19/12*$D19*$B19) *MAX(0,(YEAR(MIN($F19,DATE(2027,9,30)))*12 + MONTH(MIN($F19,DATE(2027,9,30))))-(YEAR(MAX($E19,DATE(2026,9,1)))*12 +MONTH(MAX($E19, DATE(2026,9,1)))) + 1) -> 0
H20: =DATEDIF(E20,F20,"m")+1 -> 1 | I20: =($C20/12*$D20*$B20) *MAX(0,(YEAR(MIN($F20,DATE(2027,9,30)))*12 + MONTH(MIN($F20,DATE(2027,9,30))))-(YEAR(MAX($E20,DATE(2026,9,1)))*12 +MONTH(MAX($E20, DATE(2026,9,1)))) + 1) -> 0
H21: =DATEDIF(E21,F21,"m")+1 -> 1 | I21: =($C21/12*$D21*$B21) *MAX(0,(YEAR(MIN($F21,DATE(2027,9,30)))*12 + MONTH(MIN($F21,DATE(2027,9,30))))-(YEAR(MAX($E21,DATE(2026,9,1)))*12 +MONTH(MAX($E21, DATE(2026,9,1)))) + 1) -> 0
H22: =DATEDIF(E22,F22,"m")+1 -> 1 | I22: =($C22/12*$D22*$B22) *MAX(0,(YEAR(MIN($F22,DATE(2027,9,30)))*12 + MONTH(MIN($F22,DATE(2027,9,30))))-(YEAR(MAX($E22,DATE(2026,9,1)))*12 +MONTH(MAX($E22, DATE(2026,9,1)))) + 1) -> 0
H23: =DATEDIF(E23,F23,"m")+1 -> 1 | I23: =($C23/12*$D23*$B23) *MAX(0,(YEAR(MIN($F23,DATE(2027,9,30)))*12 + MONTH(MIN($F23,DATE(2027,9,30))))-(YEAR(MAX($E23,DATE(2026,9,1)))*12 +MONTH(MAX($E23, DATE(2026,9,1)))) + 1) -> 0
H24: =DATEDIF(E24,F24,"m")+1 -> 1 | I24: =($C24/12*$D24*$B24) *MAX(0,(YEAR(MIN($F24,DATE(2027,9,30)))*12 + MONTH(MIN($F24,DATE(2027,9,30))))-(YEAR(MAX($E24,DATE(2026,9,1)))*12 +MONTH(MAX($E24, DATE(2026,9,1)))) + 1) -> 0
H25: =DATEDIF(E25,F25,"m")+1 -> 1 | I25: =($C25/12*$D25*$B25) *MAX(0,(YEAR(MIN($F25,DATE(2027,9,30)))*12 + MONTH(MIN($F25,DATE(2027,9,30))))-(YEAR(MAX($E25,DATE(2026,9,1)))*12 +MONTH(MAX($E25, DATE(2026,9,1)))) + 1) -> 0
... H43: =DATEDIF(E43,F43,"m")+1 -> 1 | I43: =($C43/12*$D43*$B43) *MAX(0,(YEAR(MIN($F43,DATE(2027,9,30)))*12 + MONTH(MIN($F43,DATE(2027,9,30))))-(YEAR(MAX($E43,DATE(2026,9,1)))*12 +MONTH(MAX($E43, DATE(2026,9,1)))) + 1) -> 0
G44: Yes, Admin | I44: =SUM(I14:I43) -> 0
A45: Personnel Justifications | H45: No, Not Admin
A46: Position Title (and Name) | B46: Example Justification
A47: =A11 -> Example Position (John Doe) | B47: This position will oversee coordination with local groups, ensuring compliance, fiscal integrity, and programmatic effectiveness. Includes monitoring partner organization performance, coordinating evaluation efforts with the steering committee, and serving as the primary liaison with local partners. The ideal candidate will have experience in nonprofit grant management, strong analytical and communication skills, and a commitment to responsible program delivery. This is an Administrative position.
A48: =A14 -> 0
A49: =A15 -> 0
A50: =A16 -> 0
A51: =A17 -> 0
A52: =A18 -> 0
A53: =A19 -> 0
A54: =A20 -> 0
A55: =A21 -> 0
A56: =A22 -> 0
A57: =A23 -> 0
A58: =A24 -> 0
A59: =A25 -> 0
... A77: =A43 -> 0
A80: End of Personnel Worksheet.

Sheet Fringe
A1: Personnel Fringe | B1: Organization Name: | C1: ='Summary Tables'!C1 -> 0
B3: Total Proposed Cost
A4: Fringe Budget | B4: =D44 -> 0
A7: Instructions - For each position proposed on the Personnel tab, fill in the yellow fields below, noting the Fringe Benefits value used for that position.
A9: Fringe Benefits Details
A10: Is this an Administrative Cost? | B10: Position Title (and Name) | C10: # of Staff | D10: Fringe Benefits Value
A11: =Personnel!G11 -> Yes, Admin | B11: =Personnel!A11 -> Example Position (John Doe) | C11: =Personnel!B11 -> 1 | D11: 10000
A13: Is this an Administrative Cost? | B13: Position Title (and Name) | C13: # of Staff | D13: Fringe Benefits Value
A14: =Personnel!G14 -> 0 | B14: =Personnel!A14 -> 0 | C14: =Personnel!B14 -> 0
A15: =Personnel!G15 -> 0 | B15: =Personnel!A15 -> 0 | C15: =Personnel!B15 -> 0
A16: =Personnel!G16 -> 0 | B16: =Personnel!A16 -> 0 | C16: =Personnel!B16 -> 0
A17: =Personnel!G17 -> 0 | B17: =Personnel!A17 -> 0 | C17: =Personnel!B17 -> 0
A18: =Personnel!G18 -> 0 | B18: =Personnel!A18 -> 0 | C18: =Personnel!B18 -> 0
A19: =Personnel!G19 -> 0 | B19: =Personnel!A19 -> 0 | C19: =Personnel!B19 -> 0
A20: =Personnel!G20 -> 0 | B20: =Personnel!A20 -> 0 | C20: =Personnel!B20 -> 0
A21: =Personnel!G21 -> 0 | B21: =Personnel!A21 -> 0 | C21: =Personnel!B21 -> 0
A22: =Personnel!G22 -> 0 | B22: =Personnel!A22 -> 0 | C22: =Personnel!B22 -> 0
A23: =Personnel!G23 -> 0 | B23: =Personnel!A23 -> 0 | C23: =Personnel!B23 -> 0
A24: =Personnel!G24 -> 0 | B24: =Personnel!A24 -> 0 | C24: =Personnel!B24 -> 0
A25: =Personnel!G25 -> 0 | B25: =Personnel!A25 -> 0 | C25: =Personnel!B25 -> 0
... A43: =Personnel!G43 -> 0 | B43: =Personnel!A43 -> 0 | C43: =Personnel!B43 -> 0
D44: =SUM(D14:D43) -> 0
A46: End of Fringe Benefits Worksheet.

Sheet Travel
A1: Travel | B1: Organization Name: | C1: ='Summary Tables'!C1 -> 0
B3: Total Proposed Cost
A4: Travel Budget | B4: =C80 -> 0
A7: Instructions - For each proposed position with proposed travel, please fill in the yellow fields in the Travel Inputs table with details of the planned travel, including a justification describing the travel's purpose and connection to proposed activities. For each travel line item in the Inputs table, complete the yellow fields in the Travel Quantity Table with the number of trips for that line item.
A9: Travel Inputs
A10: Position Travelling (from Personnel) | B10: Purpose of Travel | C10: Location | D10: # of Miles for Mileage ($0.49/mile) | E10: Airfare | F10: Luggage Fees | G10: Hotel | H10: Total Per Diem (for Overnight Travel) | I10: Transportation | J10: Justification (One Row Per Each Requested Trip, including staff member(s) dates and explanation of cost calculation for each line item)
A11: =Personnel!A11 -> Example Position (John Doe) | B11: Oversight visits to local partners | C11: Throughout region (counties X, Y, Z) | D11: 50 | E11: 0 | F11: 0 | G11: 0 | H11: 0 | I11: 0 | J11: The Example Position will be traveling twice per month to local partners within the region throughout Sample Initiative implementation.
A13: Position Travelling (from Personnel) | B13: Purpose of Travel | C13: Location | D13: # of Miles for Mileage ($0.49/mile) | E13: Airfare | F13: Luggage Fees | G13: Hotel | H13: Total Per Diem | I13: Transportation | J13: Justification (One Row Per Each Requested Trip, including staff member(s) dates and explanation of cost calculation for each line item)
A14: =Personnel!A14 -> 0
A15: =Personnel!A15 -> 0
A16: =Personnel!A16 -> 0
A17: =Personnel!A17 -> 0
A18: =Personnel!A18 -> 0
A19: =Personnel!A19 -> 0
A20: =Personnel!A20 -> 0
A21: =Personnel!A21 -> 0
A22: =Personnel!A22 -> 0
A23: =Personnel!A23 -> 0
A24: =Personnel!A24 -> 0
A25: =Personnel!A25 -> 0
... A41: =Personnel!A41 -> 0
A42: =Personnel!A41 -> 0
A43: =Personnel!A42 -> 0
A45: Travel Quantity
A46: Position Travelling (from Personnel) | B46: # of trips | C46: Total Projected Costs
A47: =A11 -> Example Position (John Doe) | B47: 24 | C47: =(B47*($D11*0.49))+(B47*SUM($E11:$I11)) -> 588
A49: Position Travelling (from Personnel) | B49: # of trips | C49: Total Projected Costs
A50: =A14 -> 0 | C50: =(B50*($D14*0.49))+(B50*SUM($E14:$I14)) -> 0
A51: =A15 -> 0 | C51: =(B51*($D15*0.49))+(B51*SUM($E15:$I15)) -> 0
A52: =A16 -> 0 | C52: =(B52*($D16*0.49))+(B52*SUM($E16:$I16)) -> 0
A53: =A17 -> 0 | C53: =(B53*($D17*0.49))+(B53*SUM($E17:$I17)) -> 0
A54: =A18 -> 0 | C54: =(B54*($D18*0.49))+(B54*SUM($E18:$I18)) -> 0
A55: =A19 -> 0 | C55: =(B55*($D19*0.49))+(B55*SUM($E19:$I19)) -> 0
A56: =A20 -> 0 | C56: =(B56*($D20*0.49))+(B56*SUM($E20:$I20)) -> 0
A57: =A21 -> 0 | C57: =(B57*($D21*0.49))+(B57*SUM($E21:$I21)) -> 0
A58: =A22 -> 0 | C58: =(B58*($D22*0.49))+(B58*SUM($E22:$I22)) -> 0
A59: =A23 -> 0 | C59: =(B59*($D23*0.49))+(B59*SUM($E23:$I23)) -> 0
A60: =A24 -> 0 | C60: =(B60*($D24*0.49))+(B60*SUM($E24:$I24)) -> 0
A61: =A25 -> 0 | C61: =(B61*($D25*0.49))+(B61*SUM($E25:$I25)) -> 0
... A79: =A43 -> 0 | C79: =(B79*($D43*0.49))+(B79*SUM($E43:$I43)) -> 0
...

Sheet Equipment
A1: Equipment | B1: Organization Name: | C1: ='Summary Tables'!C1 -> 0
B3: Total Proposed Cost
A4: Equipment Budget | B4: =E34 -> 0
A7: Instructions - For each proposed equipment purchase, fill in the yellow fields below, noting the item, the Initiative it is associated with, its unit cost, and the number of purchases. Equipment purchases are tangible goods with a unit cost of at least $10,000. Tangible goods with a unit cost under $10,000 should be categorized as Supplies.
A9: Equipment Details
A10: Item | B10: Unit Cost | C10: Admin? | D10: Quantity | E10: Total Projected Costs
A11: Pediatric hospital bed | B11: 12000 | C11: No, Not Admin | D11: 5 | E11: =$B11*D11 -> 60000
A13: Item | B13: Unit Cost | C13: Is this an Administrative Cost? | D13: Quantity | E13: Total Projected Costs
E14: =$B14*D14 -> 0
E15: =$B15*D15 -> 0
E16: =$B16*D16 -> 0
E17: =$B17*D17 -> 0
E18: =$B18*D18 -> 0
E19: =$B19*D19 -> 0
E20: =$B20*D20 -> 0
E21: =$B21*D21 -> 0
E22: =$B22*D22 -> 0
E23: =$B23*D23 -> 0
E24: =$B24*D24 -> 0
E25: =$B25*D25 -> 0
... E33: =$B33*D33 -> 0
C34: Yes, Admin | E34: =SUM(E14:E33) -> 0
A35: Equipment Justifications | D35: No, Not Admin | E35: No
A36: Equipment Item | B36: Sample Justification
A37: =A11 -> Pediatric hospital bed | B37: Hospital beds outfitted for pediatric patients, to support Pilot Program's goals to increase bed capacity for pediatric patients and decrease time to bed placement. Each bed is $12,000, and there will be five purchases.
A38: =A14 -> 0
A39: =A15 -> 0
A40: =A16 -> 0
A41: =A17 -> 0
A42: =A18 -> 0
A43: =A19 -> 0
A44: =A20 -> 0
A45: =A21 -> 0
A46: =A22 -> 0
A47: =A23 -> 0
A48: =A24 -> 0
A49: =A25 -> 0
... A57: =A33 -> 0
A60: End of Equipment Worksheet.

Sheet Supplies
A1: Supplies | B1: Organization Name: | C1: ='Summary Tables'!C1 -> 0
B3: Total Proposed Cost
A4: Supplies Budget | B4: =E34 -> 0
A7: Instructions - For each proposed Supplies purchase, fill in the yellow fields below, noting the item, its unit cost, and the number of purchases.
A9: Supplies Details
A10: Item | B10: Unit Cost | C10: Admin? | D10: Quantity Budget Period 1 | E10: Total Proposed Cost
A11: Example Laptop Computer | B11: 1200 | C11: No, Not Admin | D11: 1 | E11: =$B11*D11 -> 1200
A13: Item | B13: Unit Cost | C13: Is this an Administrative Cost? | D13: Quantity Budget Period 1 | E13: Total Proposed Cost
E14: =$B14*D14 -> 0
E15: =$B15*D15 -> 0
E16: =$B16*D16 -> 0
E17: =$B17*D17 -> 0
E18: =$B18*D18 -> 0
E19: =$B19*D19 -> 0
E20: =$B20*D20 -> 0
E21: =$B21*D21 -> 0
E22: =$B22*D22 -> 0
E23: =$B23*D23 -> 0
E24: =$B24*D24 -> 0
E25: =$B25*D25 -> 0
... E33: =$B33*D33 -> 0
C34: Yes, Admin | E34: =SUM(E14:E33) -> 0
A35: Supplies Justifications | D35: No, Not Admin | E35: No
A36: Equipment Item | B36: Justification
A37: =A11 -> Example Laptop Computer | B37: Laptop computer purchase for the Sample Position described on the Personnel tab. The laptop will only be used for this program. There will be one laptop purchase when the Sample Position starts.
A38: =A14 -> 0
A39: =A15 -> 0
A40: =A16 -> 0
A41: =A17 -> 0
A42: =A18 -> 0
A43: =A19 -> 0
A44: =A20 -> 0
A45: =A21 -> 0
A46: =A22 -> 0
A47: =A23 -> 0
A48: =A24 -> 0
A49: =A25 -> 0
... A57: =A33 -> 0
A60: End of Supplies Worksheet.

Sheet Contractor
A1: Contractors | B1: Organization Name: | C1: ='Summary Tables'!C1 -> 0
B3: Total Proposed Cost
A4: Contractor Budget | B4: =F34 -> 0
A7: Instructions - For each proposed Contractor, complete the yellow fields in the Contractor Details table addressing the role of the contractor, whether they are an Administrative contractor, start/end dates, and projected costs. For each proposed Contractor, provide a justification of their role, method of accountability, and projected costs in the Contractor Justifications table further below.
A9: Contractor Details
A10: Contractor Role (and Name if Known) | B10: Admin? | C10: Start Date | D10: End Date | E10: Months | F10: Projected Cost Budget Period 1
A11: IT System Vendor (TBD) | B11: No, Not Admin | C11: 46388 | D11: 46568 | E11: =DATEDIF(C11,D11,"m")+1 -> 6 | F11: 100000
A13: Contractor Role (and Name if Known) | B13: Is this an Administrative Cost? | C13: Start Date | D13: End Date | E13: Months | F13: Projected Cost Budget Period 1
E14: =DATEDIF(C14,D14,"m")+1 -> 1
E15: =DATEDIF(C15,D15,"m")+1 -> 1
E16: =DATEDIF(C16,D16,"m")+1 -> 1
E17: =DATEDIF(C17,D17,"m")+1 -> 1
E18: =DATEDIF(C18,D18,"m")+1 -> 1
E19: =DATEDIF(C19,D19,"m")+1 -> 1
E20: =DATEDIF(C20,D20,"m")+1 -> 1
E21: =DATEDIF(C21,D21,"m")+1 -> 1
E22: =DATEDIF(C22,D22,"m")+1 -> 1
E23: =DATEDIF(C23,D23,"m")+1 -> 1
E24: =DATEDIF(C24,D24,"m")+1 -> 1
E25: =DATEDIF(C25,D25,"m")+1 -> 1
... E33: =DATEDIF(C33,D33,"m")+1 -> 1
B34: Yes, Admin | F34: =SUM(F14:F33) -> 0
C35: No, Not Admin | D35: No
A36: Contractor Justifications
A37: Contractor | B37: Justification
A38: =A11 -> IT System Vendor (TBD) | B38: The contractor will upgrade an IT System to support Pilot Program interoperability activities. Alongside the interoperability work conducted by hired Personnel, this contractor will ensure development and availability of critical dashboards and integrations in the new IT system. This contractor will conduct their work from 1/1/2027 to 6/30/2027 and they will report to the contract manager overseeing local partnerships and contracts and measuring progress against the milestones and outcomes described in the Project Narrative. Projected costs are $100K for IT system upgrade development, implementation, and troubleshooting with end users.
A39: =A14 -> 0
A40: =A15 -> 0
A41: =A16 -> 0
A42: =A17 -> 0
A43: =A18 -> 0
A44: =A19 -> 0
A45: =A20 -> 0
A46: =A21 -> 0
A47: =A22 -> 0
A48: =A23 -> 0
A49: =A24 -> 0
A50: =A25 -> 0
... A58: =A33 -> 0
A61: End of Contractor Worksheet.

Sheet Other
A1: Other | B1: Organization Name: | C1: ='Summary Tables'!C1 -> 0
B3: Total Proposed Cost
A4: Other Budget | B4: =E34 -> 0
A7: Instructions - For each proposed Other Cost purchase, fill in the yellow fields below, noting the item, its unit cost, and the number of purchases.
A9: Other Costs Details
A10: Item | B10: Unit Cost | C10: Admin? | D10: Quantity | E10: Total Proposed Cost
A11: Word Processing Software Licenses | B11: 150 | C11: No, Not Admin | D11: 5 | E11: =$B11*D11 -> 750
A13: Item | B13: Unit Cost | C13: Is this an Administrative Cost? | D13: Quantity Budget Period 1 | E13: Total Proposed Cost
E14: =$B14*D14 -> 0
E15: =$B15*D15 -> 0
E16: =$B16*D16 -> 0
E17: =$B17*D17 -> 0
E18: =$B18*D18 -> 0
E19: =$B19*D19 -> 0
E20: =$B20*D20 -> 0
E21: =$B21*D21 -> 0
E22: =$B22*D22 -> 0
E23: =$B23*D23 -> 0
E24: =$B24*D24 -> 0
E25: =$B25*D25 -> 0
... E33: =$B33*D33 -> 0
C34: Yes, Admin | E34: =SUM(E14:E33) -> 0
A35: Other Costs Justifications | D35: No, Not Admin | E35: No
A36: Equipment Item | B36: Sample Justification
A37: =A11 -> Word Processing Software Licenses | B37: Purchase of individual Word Processing Software licenses for organization staff working soleley on this project. There will be five license purchases.
A38: =A14 -> 0
A39: =A15 -> 0
A40: =A16 -> 0
A41: =A17 -> 0
A42: =A18 -> 0
A43: =A19 -> 0
A44: =A20 -> 0
A45: =A21 -> 0
A46: =A22 -> 0
A47: =A23 -> 0
A48: =A24 -> 0
A49: =A25 -> 0
... A57: =A33 -> 0
A60: End of Other Worksheet.
